BEGIN:VCALENDAR
VERSION:2.0
PRODID:-//Trail Rider - ECPv6.15.20//NONSGML v1.0//EN
CALSCALE:GREGORIAN
METHOD:PUBLISH
X-WR-CALNAME:Trail Rider
X-ORIGINAL-URL:https://trailriderpizza.com
X-WR-CALDESC:Events for Trail Rider
REFRESH-INTERVAL;VALUE=DURATION:PT1H
X-Robots-Tag:noindex
X-PUBLISHED-TTL:PT1H
BEGIN:VTIMEZONE
TZID:America/Denver
BEGIN:DAYLIGHT
TZOFFSETFROM:-0700
TZOFFSETTO:-0600
TZNAME:MDT
DTSTART:20250309T090000
END:DAYLIGHT
BEGIN:STANDARD
TZOFFSETFROM:-0600
TZOFFSETTO:-0700
TZNAME:MST
DTSTART:20251102T080000
END:STANDARD
BEGIN:DAYLIGHT
TZOFFSETFROM:-0700
TZOFFSETTO:-0600
TZNAME:MDT
DTSTART:20260308T090000
END:DAYLIGHT
BEGIN:STANDARD
TZOFFSETFROM:-0600
TZOFFSETTO:-0700
TZNAME:MST
DTSTART:20261101T080000
END:STANDARD
BEGIN:DAYLIGHT
TZOFFSETFROM:-0700
TZOFFSETTO:-0600
TZNAME:MDT
DTSTART:20270314T090000
END:DAYLIGHT
BEGIN:STANDARD
TZOFFSETFROM:-0600
TZOFFSETTO:-0700
TZNAME:MST
DTSTART:20271107T080000
END:STANDARD
END:VTIMEZONE
BEGIN:VEVENT
DTSTART;TZID=America/Denver:20260409T173000
DTEND;TZID=America/Denver:20260409T193000
DTSTAMP:20260419T095011
CREATED:20260407T170026Z
LAST-MODIFIED:20260407T170026Z
UID:1953-1775755800-1775763000@trailriderpizza.com
SUMMARY:East Mountain Open Mic host DBGomez
DESCRIPTION:
URL:https://trailriderpizza.com/event/east-mountain-open-mic-host-dbgomez-33/
LOCATION:Trail Rider\, 12165 NM-14 b2\, Cedar Crest\, NM 87008\, Cedar Crest\, NM\, 87008\, United States
CATEGORIES:Music
ATTACH;FMTTYPE=image/jpeg:https://trailriderpizza.com/wp-content/uploads/2026/04/Lumii_20260406_134247631.jpg
END:VEVENT
END:VCALENDAR