BEGIN:VCALENDAR
VERSION:2.0
PRODID:-//Trail Rider - ECPv6.15.20//NONSGML v1.0//EN
CALSCALE:GREGORIAN
METHOD:PUBLISH
X-WR-CALNAME:Trail Rider
X-ORIGINAL-URL:https://trailriderpizza.com
X-WR-CALDESC:Events for Trail Rider
REFRESH-INTERVAL;VALUE=DURATION:PT1H
X-Robots-Tag:noindex
X-PUBLISHED-TTL:PT1H
BEGIN:VTIMEZONE
TZID:America/Denver
BEGIN:DAYLIGHT
TZOFFSETFROM:-0700
TZOFFSETTO:-0600
TZNAME:MDT
DTSTART:20250309T090000
END:DAYLIGHT
BEGIN:STANDARD
TZOFFSETFROM:-0600
TZOFFSETTO:-0700
TZNAME:MST
DTSTART:20251102T080000
END:STANDARD
BEGIN:DAYLIGHT
TZOFFSETFROM:-0700
TZOFFSETTO:-0600
TZNAME:MDT
DTSTART:20260308T090000
END:DAYLIGHT
BEGIN:STANDARD
TZOFFSETFROM:-0600
TZOFFSETTO:-0700
TZNAME:MST
DTSTART:20261101T080000
END:STANDARD
BEGIN:DAYLIGHT
TZOFFSETFROM:-0700
TZOFFSETTO:-0600
TZNAME:MDT
DTSTART:20270314T090000
END:DAYLIGHT
BEGIN:STANDARD
TZOFFSETFROM:-0600
TZOFFSETTO:-0700
TZNAME:MST
DTSTART:20271107T080000
END:STANDARD
END:VTIMEZONE
BEGIN:VEVENT
DTSTART;TZID=America/Denver:20260303T173000
DTEND;TZID=America/Denver:20260303T193000
DTSTAMP:20260419T095719
CREATED:20260220T232802Z
LAST-MODIFIED:20260220T232802Z
UID:1764-1772559000-1772566200@trailriderpizza.com
SUMMARY:MOKSI
DESCRIPTION:
URL:https://trailriderpizza.com/event/moksi-2/
LOCATION:Trail Rider\, 12165 NM-14 b2\, Cedar Crest\, NM 87008\, Cedar Crest\, NM\, 87008\, United States
CATEGORIES:Music
ATTACH;FMTTYPE=image/jpeg:https://trailriderpizza.com/wp-content/uploads/2026/02/A-New-Design-2_1771611880178.jpg
END:VEVENT
BEGIN:VEVENT
DTSTART;TZID=America/Denver:20260305T170000
DTEND;TZID=America/Denver:20260305T193000
DTSTAMP:20260419T095719
CREATED:20260221T190304Z
LAST-MODIFIED:20260221T190304Z
UID:1782-1772730000-1772739000@trailriderpizza.com
SUMMARY:East Mountain Open Mic host DBGomez
DESCRIPTION:
URL:https://trailriderpizza.com/event/east-mountain-open-mic-host-dbgomez-29/
LOCATION:Trail Rider\, 12165 NM-14 b2\, Cedar Crest\, NM 87008\, Cedar Crest\, NM\, 87008\, United States
CATEGORIES:Music
ATTACH;FMTTYPE=image/jpeg:https://trailriderpizza.com/wp-content/uploads/2026/02/A-New-Design_1771638591877.jpg
END:VEVENT
BEGIN:VEVENT
DTSTART;TZID=America/Denver:20260310T173000
DTEND;TZID=America/Denver:20260310T193000
DTSTAMP:20260419T095719
CREATED:20260220T232927Z
LAST-MODIFIED:20260220T232927Z
UID:1767-1773163800-1773171000@trailriderpizza.com
SUMMARY:Jamie O'Hara
DESCRIPTION:
URL:https://trailriderpizza.com/event/jamie-ohara-3/
LOCATION:Trail Rider\, 12165 NM-14 b2\, Cedar Crest\, NM 87008\, Cedar Crest\, NM\, 87008\, United States
CATEGORIES:Music
ATTACH;FMTTYPE=image/jpeg:https://trailriderpizza.com/wp-content/uploads/2026/02/Girl-Wizard-Birthday-Invitation-2_1771622036731.jpg
END:VEVENT
BEGIN:VEVENT
DTSTART;TZID=America/Denver:20260312T170000
DTEND;TZID=America/Denver:20260312T193000
DTSTAMP:20260419T095719
CREATED:20260221T190336Z
LAST-MODIFIED:20260221T190336Z
UID:1785-1773334800-1773343800@trailriderpizza.com
SUMMARY:East Mountain Open Mic host DBGomez
DESCRIPTION:
URL:https://trailriderpizza.com/event/east-mountain-open-mic-host-dbgomez-30/
LOCATION:Trail Rider\, 12165 NM-14 b2\, Cedar Crest\, NM 87008\, Cedar Crest\, NM\, 87008\, United States
CATEGORIES:Music
ATTACH;FMTTYPE=image/jpeg:https://trailriderpizza.com/wp-content/uploads/2026/02/A-New-Design_1771638591877.jpg
END:VEVENT
BEGIN:VEVENT
DTSTART;TZID=America/Denver:20260317T173000
DTEND;TZID=America/Denver:20260317T193000
DTSTAMP:20260419T095719
CREATED:20260220T233113Z
LAST-MODIFIED:20260220T233113Z
UID:1770-1773768600-1773775800@trailriderpizza.com
SUMMARY:Kevin Kinane
DESCRIPTION:
URL:https://trailriderpizza.com/event/kevin-kinane-3/
LOCATION:Trail Rider\, 12165 NM-14 b2\, Cedar Crest\, NM 87008\, Cedar Crest\, NM\, 87008\, United States
CATEGORIES:Music
ATTACH;FMTTYPE=image/jpeg:https://trailriderpizza.com/wp-content/uploads/2026/02/Lumii_20260220_134111440.jpg
END:VEVENT
BEGIN:VEVENT
DTSTART;TZID=America/Denver:20260319T170000
DTEND;TZID=America/Denver:20260319T193000
DTSTAMP:20260419T095719
CREATED:20260221T190404Z
LAST-MODIFIED:20260221T190404Z
UID:1787-1773939600-1773948600@trailriderpizza.com
SUMMARY:East Mountain Open Mic host DBGomez
DESCRIPTION:
URL:https://trailriderpizza.com/event/east-mountain-open-mic-host-dbgomez-31/
LOCATION:Trail Rider\, 12165 NM-14 b2\, Cedar Crest\, NM 87008\, Cedar Crest\, NM\, 87008\, United States
CATEGORIES:Music
ATTACH;FMTTYPE=image/jpeg:https://trailriderpizza.com/wp-content/uploads/2026/02/A-New-Design_1771638591877.jpg
END:VEVENT
BEGIN:VEVENT
DTSTART;TZID=America/Denver:20260324T173000
DTEND;TZID=America/Denver:20260324T193000
DTSTAMP:20260419T095719
CREATED:20260220T234403Z
LAST-MODIFIED:20260220T234403Z
UID:1774-1774373400-1774380600@trailriderpizza.com
SUMMARY:Sally Townes
DESCRIPTION:
URL:https://trailriderpizza.com/event/sally-townes/
LOCATION:Trail Rider\, 12165 NM-14 b2\, Cedar Crest\, NM 87008\, Cedar Crest\, NM\, 87008\, United States
CATEGORIES:Music
ATTACH;FMTTYPE=image/jpeg:https://trailriderpizza.com/wp-content/uploads/2026/02/A-New-Design-2_1771630767453-1.jpg
END:VEVENT
BEGIN:VEVENT
DTSTART;TZID=America/Denver:20260326T170000
DTEND;TZID=America/Denver:20260326T193000
DTSTAMP:20260419T095719
CREATED:20260221T190436Z
LAST-MODIFIED:20260221T190436Z
UID:1789-1774544400-1774553400@trailriderpizza.com
SUMMARY:East Mountain Open Mic host DBGomez
DESCRIPTION:
URL:https://trailriderpizza.com/event/east-mountain-open-mic-host-dbgomez-32/
LOCATION:Trail Rider\, 12165 NM-14 b2\, Cedar Crest\, NM 87008\, Cedar Crest\, NM\, 87008\, United States
CATEGORIES:Music
ATTACH;FMTTYPE=image/jpeg:https://trailriderpizza.com/wp-content/uploads/2026/02/A-New-Design_1771638591877.jpg
END:VEVENT
BEGIN:VEVENT
DTSTART;TZID=America/Denver:20260331T173000
DTEND;TZID=America/Denver:20260331T193000
DTSTAMP:20260419T095719
CREATED:20260220T234922Z
LAST-MODIFIED:20260220T234922Z
UID:1778-1774978200-1774985400@trailriderpizza.com
SUMMARY:JR Chapman
DESCRIPTION:
URL:https://trailriderpizza.com/event/jr-chapman-3/
LOCATION:Trail Rider\, 12165 NM-14 b2\, Cedar Crest\, NM 87008\, Cedar Crest\, NM\, 87008\, United States
CATEGORIES:Music
ATTACH;FMTTYPE=image/jpeg:https://trailriderpizza.com/wp-content/uploads/2026/02/Copy-of-of-flyer-template-farmer-market-1_1771631211503.jpg
END:VEVENT
END:VCALENDAR